BEGIN:VCALENDAR
VERSION:2.0
PRODID:-//Santa Fe Springs Swap Meet - ECPv6.15.20//NONSGML v1.0//EN
CALSCALE:GREGORIAN
METHOD:PUBLISH
X-WR-CALNAME:Santa Fe Springs Swap Meet
X-ORIGINAL-URL:https://sfsswapmeet.com
X-WR-CALDESC:Events for Santa Fe Springs Swap Meet
REFRESH-INTERVAL;VALUE=DURATION:PT1H
X-Robots-Tag:noindex
X-PUBLISHED-TTL:PT1H
BEGIN:VTIMEZONE
TZID:America/Los_Angeles
BEGIN:DAYLIGHT
TZOFFSETFROM:-0800
TZOFFSETTO:-0700
TZNAME:PDT
DTSTART:20210314T100000
END:DAYLIGHT
BEGIN:STANDARD
TZOFFSETFROM:-0700
TZOFFSETTO:-0800
TZNAME:PST
DTSTART:20211107T090000
END:STANDARD
BEGIN:DAYLIGHT
TZOFFSETFROM:-0800
TZOFFSETTO:-0700
TZNAME:PDT
DTSTART:20220313T100000
END:DAYLIGHT
BEGIN:STANDARD
TZOFFSETFROM:-0700
TZOFFSETTO:-0800
TZNAME:PST
DTSTART:20221106T090000
END:STANDARD
BEGIN:DAYLIGHT
TZOFFSETFROM:-0800
TZOFFSETTO:-0700
TZNAME:PDT
DTSTART:20230312T100000
END:DAYLIGHT
BEGIN:STANDARD
TZOFFSETFROM:-0700
TZOFFSETTO:-0800
TZNAME:PST
DTSTART:20231105T090000
END:STANDARD
END:VTIMEZONE
BEGIN:VEVENT
DTSTART;TZID=America/Los_Angeles:20221007T190000
DTEND;TZID=America/Los_Angeles:20221007T200000
DTSTAMP:20260423T123438
CREATED:20220823T211819Z
LAST-MODIFIED:20220823T211819Z
UID:1976-1665169200-1665172800@sfsswapmeet.com
SUMMARY:These Handsome Devils (Tribute to Morrissey and The Smiths)
DESCRIPTION:Set times: 7PM\, 8:30PM and 10PM \nFor more information please visit our Social media @sfsswapmeet \nor call (562) 921-4359 ext. 114
URL:https://sfsswapmeet.com/event/these-handsome-devils-tribute-to-morrissey-and-the-smiths/
CATEGORIES:Friday night
END:VEVENT
BEGIN:VEVENT
DTSTART;TZID=America/Los_Angeles:20221014T190000
DTEND;TZID=America/Los_Angeles:20221014T200000
DTSTAMP:20260423T123438
CREATED:20220823T211602Z
LAST-MODIFIED:20220823T211602Z
UID:1972-1665774000-1665777600@sfsswapmeet.com
SUMMARY:TBD
DESCRIPTION:Set times: 7PM\, 8:30PM and 10PM \nFor more information please visit our Social media @sfsswapmeet \nor call (562) 921-4359 ext. 114
URL:https://sfsswapmeet.com/event/tbd/
CATEGORIES:Friday night
END:VEVENT
BEGIN:VEVENT
DTSTART;TZID=America/Los_Angeles:20221021T190000
DTEND;TZID=America/Los_Angeles:20221021T200000
DTSTAMP:20260423T123438
CREATED:20220821T211112Z
LAST-MODIFIED:20220823T211336Z
UID:1963-1666378800-1666382400@sfsswapmeet.com
SUMMARY:Safety Orange
DESCRIPTION:Set times: 7PM\, 8:30PM and 10PM \nFor more information please visit our Social media @sfsswapmeet \nor call (562) 921-4359 ext. 114
URL:https://sfsswapmeet.com/event/tease-band/
CATEGORIES:Friday night
END:VEVENT
BEGIN:VEVENT
DTSTART;TZID=America/Los_Angeles:20221028T190000
DTEND;TZID=America/Los_Angeles:20221028T200000
DTSTAMP:20260423T123438
CREATED:20220823T211032Z
LAST-MODIFIED:20220823T211032Z
UID:1961-1666983600-1666987200@sfsswapmeet.com
SUMMARY:4 Alarm (Classic Rock\, Covers\, 80s and Dance Music)
DESCRIPTION:Set times: 7PM\, 8:30PM and 10PM \nFor more information please visit our Social media @sfsswapmeet \nor call (562) 921-4359 ext. 114
URL:https://sfsswapmeet.com/event/4-alarm-classic-rock-covers-80s-and-dance-music/
CATEGORIES:Friday night
END:VEVENT
END:VCALENDAR