BEGIN:VCALENDAR
VERSION:2.0
PRODID:-//Santa Fe Springs Swap Meet - ECPv6.15.20//NONSGML v1.0//EN
CALSCALE:GREGORIAN
METHOD:PUBLISH
X-ORIGINAL-URL:https://sfsswapmeet.com
X-WR-CALDESC:Events for Santa Fe Springs Swap Meet
REFRESH-INTERVAL;VALUE=DURATION:PT1H
X-Robots-Tag:noindex
X-PUBLISHED-TTL:PT1H
BEGIN:VTIMEZONE
TZID:America/Los_Angeles
BEGIN:DAYLIGHT
TZOFFSETFROM:-0800
TZOFFSETTO:-0700
TZNAME:PDT
DTSTART:20210314T100000
END:DAYLIGHT
BEGIN:STANDARD
TZOFFSETFROM:-0700
TZOFFSETTO:-0800
TZNAME:PST
DTSTART:20211107T090000
END:STANDARD
BEGIN:DAYLIGHT
TZOFFSETFROM:-0800
TZOFFSETTO:-0700
TZNAME:PDT
DTSTART:20220313T100000
END:DAYLIGHT
BEGIN:STANDARD
TZOFFSETFROM:-0700
TZOFFSETTO:-0800
TZNAME:PST
DTSTART:20221106T090000
END:STANDARD
BEGIN:DAYLIGHT
TZOFFSETFROM:-0800
TZOFFSETTO:-0700
TZNAME:PDT
DTSTART:20230312T100000
END:DAYLIGHT
BEGIN:STANDARD
TZOFFSETFROM:-0700
TZOFFSETTO:-0800
TZNAME:PST
DTSTART:20231105T090000
END:STANDARD
END:VTIMEZONE
BEGIN:VEVENT
DTSTART;TZID=America/Los_Angeles:20221202T190000
DTEND;TZID=America/Los_Angeles:20221202T200000
DTSTAMP:20260423T090124
CREATED:20220823T193217Z
LAST-MODIFIED:20220823T193217Z
UID:1894-1670007600-1670011200@sfsswapmeet.com
SUMMARY:90s Rock Show
DESCRIPTION:Set times: 7PM\, 8:30PM and 10PM \nFor more information please visit our Social media @sfsswapmeet \nor call (562) 921-4359 ext. 114
URL:https://sfsswapmeet.com/event/90s-rock-show/
CATEGORIES:Friday night
END:VEVENT
BEGIN:VEVENT
DTSTART;TZID=America/Los_Angeles:20221209T190000
DTEND;TZID=America/Los_Angeles:20221209T230000
DTSTAMP:20260423T090124
CREATED:20221206T190143Z
LAST-MODIFIED:20221206T193849Z
UID:5804-1670612400-1670626800@sfsswapmeet.com
SUMMARY:Tribute to Bruno Mars: Bruno and The Hooligans
DESCRIPTION:Set times: 7PM\, 8:30PM and 10PM \nFor more information please visit our Social media @sfsswapmeet \nor call (562) 921-4359 ext. 114
URL:https://sfsswapmeet.com/event/tribute-to-bruno-mars-bruno-and-the-hooligans-2/
LOCATION:Santa Fe Springs Swap Meet\, 13963 Alondra Blvd‎.\, Santa Fe Springs\, CA\, 90670\, United States
CATEGORIES:Friday night
END:VEVENT
BEGIN:VEVENT
DTSTART;TZID=America/Los_Angeles:20221216T190000
DTEND;TZID=America/Los_Angeles:20221216T230000
DTSTAMP:20260423T090124
CREATED:20221206T185913Z
LAST-MODIFIED:20221206T193219Z
UID:5801-1671217200-1671231600@sfsswapmeet.com
SUMMARY:Tribute to Selena: Dreaming of you
DESCRIPTION:Set times: 7PM\, 8:30PM and 10PM \nFor more information please visit our Social media @sfsswapmeet \nor call (562) 921-4359 ext. 114
URL:https://sfsswapmeet.com/event/tribute-to-bruno-mars-bruno-and-the-hooligans/
LOCATION:Santa Fe Springs Swap Meet\, 13963 Alondra Blvd‎.\, Santa Fe Springs\, CA\, 90670\, United States
CATEGORIES:Friday night
END:VEVENT
BEGIN:VEVENT
DTSTART;TZID=America/Los_Angeles:20221223T190000
DTEND;TZID=America/Los_Angeles:20221223T230000
DTSTAMP:20260423T090124
CREATED:20221206T190316Z
LAST-MODIFIED:20221217T232923Z
UID:5806-1671822000-1671836400@sfsswapmeet.com
SUMMARY:Tribute to Billy Idol: Generation Idol
DESCRIPTION:Set times: 7PM\, 8:30PM and 10PM \nFor more information please visit our Social media @sfsswapmeet \nor call (562) 921-4359 ext. 114
URL:https://sfsswapmeet.com/event/tribute-to-billy-idol-generation-idol/
CATEGORIES:Friday night
ATTACH;FMTTYPE=image/jpeg:https://sfsswapmeet.com/wp-content/uploads/2022/12/Swap-Meet_Social-Media_1080x1080_December_Generation-Idol.jpg
END:VEVENT
BEGIN:VEVENT
DTSTART;TZID=America/Los_Angeles:20221230T190000
DTEND;TZID=America/Los_Angeles:20221230T230000
DTSTAMP:20260423T090124
CREATED:20220823T185444Z
LAST-MODIFIED:20221217T232833Z
UID:1876-1672426800-1672441200@sfsswapmeet.com
SUMMARY:Corazon De Mana (Tribute to Mana)
DESCRIPTION:Set times: 7PM\, 8:30PM and 10PM \nFor more information please visit our Social media @sfsswapmeet \nor call (562) 921-4359 ext. 114
URL:https://sfsswapmeet.com/event/corazon-de-mana-tribute-to-mana/
CATEGORIES:Friday night
ATTACH;FMTTYPE=image/jpeg:https://sfsswapmeet.com/wp-content/uploads/2022/12/Swap-Meet_Social-Media_1080x1080_December_Corazon-de-Mana.jpg
END:VEVENT
END:VCALENDAR