BEGIN:VCALENDAR
VERSION:2.0
PRODID:-//Santa Fe Springs Swap Meet - ECPv6.15.20//NONSGML v1.0//EN
CALSCALE:GREGORIAN
METHOD:PUBLISH
X-ORIGINAL-URL:https://sfsswapmeet.com
X-WR-CALDESC:Events for Santa Fe Springs Swap Meet
REFRESH-INTERVAL;VALUE=DURATION:PT1H
X-Robots-Tag:noindex
X-PUBLISHED-TTL:PT1H
BEGIN:VTIMEZONE
TZID:America/Los_Angeles
BEGIN:DAYLIGHT
TZOFFSETFROM:-0800
TZOFFSETTO:-0700
TZNAME:PDT
DTSTART:20220313T100000
END:DAYLIGHT
BEGIN:STANDARD
TZOFFSETFROM:-0700
TZOFFSETTO:-0800
TZNAME:PST
DTSTART:20221106T090000
END:STANDARD
BEGIN:DAYLIGHT
TZOFFSETFROM:-0800
TZOFFSETTO:-0700
TZNAME:PDT
DTSTART:20230312T100000
END:DAYLIGHT
BEGIN:STANDARD
TZOFFSETFROM:-0700
TZOFFSETTO:-0800
TZNAME:PST
DTSTART:20231105T090000
END:STANDARD
BEGIN:DAYLIGHT
TZOFFSETFROM:-0800
TZOFFSETTO:-0700
TZNAME:PDT
DTSTART:20240310T100000
END:DAYLIGHT
BEGIN:STANDARD
TZOFFSETFROM:-0700
TZOFFSETTO:-0800
TZNAME:PST
DTSTART:20241103T090000
END:STANDARD
END:VTIMEZONE
BEGIN:VEVENT
DTSTART;TZID=America/Los_Angeles:20230303T190000
DTEND;TZID=America/Los_Angeles:20230303T230000
DTSTAMP:20260423T042518
CREATED:20221223T011640Z
LAST-MODIFIED:20221223T011640Z
UID:5924-1677870000-1677884400@sfsswapmeet.com
SUMMARY:These Handsome Devils (Tribute to Morrissey and The Smiths)
DESCRIPTION:Set times: 7PM\, 8:30PM and 10PM For more information please visit our Social media @sfsswapmeet or call (562) 921-4359 ext. 114
URL:https://sfsswapmeet.com/event/these-handsome-devils-tribute-to-morrissey-and-the-smiths-2/
CATEGORIES:Friday night
END:VEVENT
BEGIN:VEVENT
DTSTART;TZID=America/Los_Angeles:20230310T190000
DTEND;TZID=America/Los_Angeles:20230310T230000
DTSTAMP:20260423T042518
CREATED:20230116T031339Z
LAST-MODIFIED:20230116T031339Z
UID:6004-1678474800-1678489200@sfsswapmeet.com
SUMMARY:Red Hot Tribute (Tribute to Red Hot Chili Peppers)
DESCRIPTION:
URL:https://sfsswapmeet.com/event/red-hot-tribute-tribute-to-red-hot-chili-peppers/
CATEGORIES:Friday night
ATTACH;FMTTYPE=image/png:https://sfsswapmeet.com/wp-content/uploads/2023/01/red-hot-tribute.png
END:VEVENT
BEGIN:VEVENT
DTSTART;TZID=America/Los_Angeles:20230317T190000
DTEND;TZID=America/Los_Angeles:20230317T230000
DTSTAMP:20260423T042518
CREATED:20230116T031502Z
LAST-MODIFIED:20230116T031502Z
UID:6007-1679079600-1679094000@sfsswapmeet.com
SUMMARY:The Outlaw Mariachi
DESCRIPTION:Set times: 7:00 PM\, 8:30 PM and 10 PM For more information please visit our Social media @sfsswapmeet or call (562) 921-4359 ext. 114
URL:https://sfsswapmeet.com/event/the-outlaw-mariachi-2/
CATEGORIES:Friday night
ATTACH;FMTTYPE=image/jpeg:https://sfsswapmeet.com/wp-content/uploads/2023/01/outlaw-mariachi.jpg
END:VEVENT
BEGIN:VEVENT
DTSTART;TZID=America/Los_Angeles:20230324T190000
DTEND;TZID=America/Los_Angeles:20230324T230000
DTSTAMP:20260423T042518
CREATED:20230116T031728Z
LAST-MODIFIED:20230116T031728Z
UID:6010-1679684400-1679698800@sfsswapmeet.com
SUMMARY:Corazon De Mana (Tribute to Mana)
DESCRIPTION:Set times: 7:00 PM\, 8:30 PM and 10 PM For more information please visit our Social media @sfsswapmeet or call (562) 921-4359 ext. 114 \n 
URL:https://sfsswapmeet.com/event/corazon-de-mana-tribute-to-mana-3/
CATEGORIES:Friday night
ATTACH;FMTTYPE=image/jpeg:https://sfsswapmeet.com/wp-content/uploads/2023/01/Corazon-de-Mana-Copy.jpg
END:VEVENT
BEGIN:VEVENT
DTSTART;TZID=America/Los_Angeles:20230331T190000
DTEND;TZID=America/Los_Angeles:20230331T230000
DTSTAMP:20260423T042518
CREATED:20230116T032120Z
LAST-MODIFIED:20230116T032120Z
UID:6013-1680289200-1680303600@sfsswapmeet.com
SUMMARY:Juice Box Tribute (Tribute to the Strokes)
DESCRIPTION:Set times: \n\n7:00 PM\, 8:30 PM and 10 PM For more information please visit our Social media @sfsswapmeet or call (562) 921-4359 ext. 114
URL:https://sfsswapmeet.com/event/juice-box-tribute-tribute-to-the-strokes/
CATEGORIES:Friday night
END:VEVENT
END:VCALENDAR