BEGIN:VCALENDAR
VERSION:2.0
PRODID:-//Santa Fe Springs Swap Meet - ECPv6.15.20//NONSGML v1.0//EN
CALSCALE:GREGORIAN
METHOD:PUBLISH
X-WR-CALNAME:Santa Fe Springs Swap Meet
X-ORIGINAL-URL:https://sfsswapmeet.com
X-WR-CALDESC:Events for Santa Fe Springs Swap Meet
REFRESH-INTERVAL;VALUE=DURATION:PT1H
X-Robots-Tag:noindex
X-PUBLISHED-TTL:PT1H
BEGIN:VTIMEZONE
TZID:America/Los_Angeles
BEGIN:DAYLIGHT
TZOFFSETFROM:-0800
TZOFFSETTO:-0700
TZNAME:PDT
DTSTART:20220313T100000
END:DAYLIGHT
BEGIN:STANDARD
TZOFFSETFROM:-0700
TZOFFSETTO:-0800
TZNAME:PST
DTSTART:20221106T090000
END:STANDARD
BEGIN:DAYLIGHT
TZOFFSETFROM:-0800
TZOFFSETTO:-0700
TZNAME:PDT
DTSTART:20230312T100000
END:DAYLIGHT
BEGIN:STANDARD
TZOFFSETFROM:-0700
TZOFFSETTO:-0800
TZNAME:PST
DTSTART:20231105T090000
END:STANDARD
BEGIN:DAYLIGHT
TZOFFSETFROM:-0800
TZOFFSETTO:-0700
TZNAME:PDT
DTSTART:20240310T100000
END:DAYLIGHT
BEGIN:STANDARD
TZOFFSETFROM:-0700
TZOFFSETTO:-0800
TZNAME:PST
DTSTART:20241103T090000
END:STANDARD
END:VTIMEZONE
BEGIN:VEVENT
DTSTART;TZID=America/Los_Angeles:20231103T190000
DTEND;TZID=America/Los_Angeles:20231103T230000
DTSTAMP:20260422T145708
CREATED:20230930T212915Z
LAST-MODIFIED:20230930T212915Z
UID:6943-1699038000-1699052400@sfsswapmeet.com
SUMMARY:JUICE BOX (Tribute to the Strokes)
DESCRIPTION:Set times: 7:00PM\, 8:30PM and 10PM For more information please visit our Social media @sfsswapmeet or call (562) 921-4359 ext. 11 \n4
URL:https://sfsswapmeet.com/event/juice-box-tribute-to-the-strokes/
CATEGORIES:Friday night
ATTACH;FMTTYPE=image/jpeg:https://sfsswapmeet.com/wp-content/uploads/2023/09/Juice-Box.jpg
END:VEVENT
BEGIN:VEVENT
DTSTART;TZID=America/Los_Angeles:20231110T190000
DTEND;TZID=America/Los_Angeles:20231110T230000
DTSTAMP:20260422T145708
CREATED:20230930T213834Z
LAST-MODIFIED:20231012T221747Z
UID:6949-1699642800-1699657200@sfsswapmeet.com
SUMMARY:Bruno and the Hooligans (Tribute to Bruno Mars)
DESCRIPTION:Set times: 7:00PM\, 8:30PM and 10PM For more information please visit our Social media @sfsswapmeet or call (562) 921-4359 ext. 114 \n 
URL:https://sfsswapmeet.com/event/bruno-and-the-hooligans-tribute-to-bruno-mars-2/
CATEGORIES:Friday night
ATTACH;FMTTYPE=image/jpeg:https://sfsswapmeet.com/wp-content/uploads/2023/09/Bruno-and-the-Hooligans-Logo.jpg
END:VEVENT
BEGIN:VEVENT
DTSTART;TZID=America/Los_Angeles:20231117T190000
DTEND;TZID=America/Los_Angeles:20231117T230000
DTSTAMP:20260422T145708
CREATED:20230930T213619Z
LAST-MODIFIED:20231012T221815Z
UID:6946-1700247600-1700262000@sfsswapmeet.com
SUMMARY:Red Hot Cholo Peppers (Tribute to Red Hot Chili Peppers)
DESCRIPTION:Set times: 7:00PM\, 8:30PM and 10PM For more information please visit our Social media @sfsswapmeet or call (562) 921-4359 ext. 114
URL:https://sfsswapmeet.com/event/red-hot-cholo-peppers-tribute-to-red-hot-chili-peppers-3/
CATEGORIES:Friday night
ATTACH;FMTTYPE=image/jpeg:https://sfsswapmeet.com/wp-content/uploads/2023/09/red-hot-cholo-peppers-1.jpg
END:VEVENT
BEGIN:VEVENT
DTSTART;TZID=America/Los_Angeles:20231124T190000
DTEND;TZID=America/Los_Angeles:20231124T230000
DTSTAMP:20260422T145708
CREATED:20230930T213949Z
LAST-MODIFIED:20230930T213949Z
UID:6952-1700852400-1700866800@sfsswapmeet.com
SUMMARY:The Curse (Tribute to The Cure)
DESCRIPTION:Set times: 7:00PM\, 8:30PM and 10PM For more information please visit our Social media @sfsswapmeet or call (562) 921-4359 ext. 114 \n 
URL:https://sfsswapmeet.com/event/the-curse-tribute-to-the-cure-2/
CATEGORIES:Friday night
ATTACH;FMTTYPE=image/jpeg:https://sfsswapmeet.com/wp-content/uploads/2023/09/the-curse-tribute-to-cure.jpg
END:VEVENT
END:VCALENDAR