BEGIN:VCALENDAR
VERSION:2.0
PRODID:-//Santa Fe Springs Swap Meet - ECPv6.15.20//NONSGML v1.0//EN
CALSCALE:GREGORIAN
METHOD:PUBLISH
X-WR-CALNAME:Santa Fe Springs Swap Meet
X-ORIGINAL-URL:https://sfsswapmeet.com
X-WR-CALDESC:Events for Santa Fe Springs Swap Meet
REFRESH-INTERVAL;VALUE=DURATION:PT1H
X-Robots-Tag:noindex
X-PUBLISHED-TTL:PT1H
BEGIN:VTIMEZONE
TZID:America/Los_Angeles
BEGIN:DAYLIGHT
TZOFFSETFROM:-0800
TZOFFSETTO:-0700
TZNAME:PDT
DTSTART:20230312T100000
END:DAYLIGHT
BEGIN:STANDARD
TZOFFSETFROM:-0700
TZOFFSETTO:-0800
TZNAME:PST
DTSTART:20231105T090000
END:STANDARD
BEGIN:DAYLIGHT
TZOFFSETFROM:-0800
TZOFFSETTO:-0700
TZNAME:PDT
DTSTART:20240310T100000
END:DAYLIGHT
BEGIN:STANDARD
TZOFFSETFROM:-0700
TZOFFSETTO:-0800
TZNAME:PST
DTSTART:20241103T090000
END:STANDARD
BEGIN:DAYLIGHT
TZOFFSETFROM:-0800
TZOFFSETTO:-0700
TZNAME:PDT
DTSTART:20250309T100000
END:DAYLIGHT
BEGIN:STANDARD
TZOFFSETFROM:-0700
TZOFFSETTO:-0800
TZNAME:PST
DTSTART:20251102T090000
END:STANDARD
END:VTIMEZONE
BEGIN:VEVENT
DTSTART;TZID=America/Los_Angeles:20240105T190000
DTEND;TZID=America/Los_Angeles:20240105T230000
DTSTAMP:20260422T114320
CREATED:20231202T024853Z
LAST-MODIFIED:20231202T024853Z
UID:7220-1704481200-1704495600@sfsswapmeet.com
SUMMARY:The Big 3
DESCRIPTION:Set times: 7:00PM\, 8:30PM and 10PM For more information please visit our Social media @sfsswapmeet or call (562) 921-4359 ext. 114 \n 
URL:https://sfsswapmeet.com/event/the-big-3/
CATEGORIES:Friday night
ATTACH;FMTTYPE=image/jpeg:https://sfsswapmeet.com/wp-content/uploads/2023/12/The-Big-3.jpg
END:VEVENT
BEGIN:VEVENT
DTSTART;TZID=America/Los_Angeles:20240112T190000
DTEND;TZID=America/Los_Angeles:20240112T230000
DTSTAMP:20260422T114320
CREATED:20231202T025218Z
LAST-MODIFIED:20231202T025218Z
UID:7223-1705086000-1705100400@sfsswapmeet.com
SUMMARY:El Primer Instinto (Tributo a Jaguares y Caifanes)
DESCRIPTION:Set times: 7:00PM\, 8:30PM and 10PM For more information please visit our Social media @sfsswapmeet or call (562) 921-4359 ext. 114 \n 
URL:https://sfsswapmeet.com/event/el-primer-instinto-tributo-a-jaguares-y-caifanes-2/
CATEGORIES:Friday night
ATTACH;FMTTYPE=image/jpeg:https://sfsswapmeet.com/wp-content/uploads/2023/12/Primer-Instito.jpeg
END:VEVENT
BEGIN:VEVENT
DTSTART;TZID=America/Los_Angeles:20240119T190000
DTEND;TZID=America/Los_Angeles:20240119T230000
DTSTAMP:20260422T114320
CREATED:20231130T193440Z
LAST-MODIFIED:20231202T042015Z
UID:7190-1705690800-1705705200@sfsswapmeet.com
SUMMARY:Maladjusted (Tribute Morrissey & The Smiths)
DESCRIPTION:Set times: 12PM\, 2PM and 4PM For more information please visit our Social media @sfsswapmeet or call (562) 921-4359 ext. 114
URL:https://sfsswapmeet.com/event/maladjusted-tribute-morrissey-the-smiths/
CATEGORIES:Friday night
ATTACH;FMTTYPE=image/png:https://sfsswapmeet.com/wp-content/uploads/2023/11/maladjusted_logo.png
END:VEVENT
BEGIN:VEVENT
DTSTART;TZID=America/Los_Angeles:20240126T120000
DTEND;TZID=America/Los_Angeles:20240126T170000
DTSTAMP:20260422T114320
CREATED:20240122T232900Z
LAST-MODIFIED:20240122T232917Z
UID:7410-1706270400-1706288400@sfsswapmeet.com
SUMMARY:Safety Orange
DESCRIPTION:Set times: 7:00PM\, 8:30PM and 10PM For more information please visit our Social media @sfsswapmeet or call (562) 921-4359 ext. 114
URL:https://sfsswapmeet.com/event/safety-orange-6/
CATEGORIES:Friday night
ATTACH;FMTTYPE=image/jpeg:https://sfsswapmeet.com/wp-content/uploads/2023/02/safety-Orange.jpg
END:VEVENT
END:VCALENDAR