BEGIN:VCALENDAR
VERSION:2.0
PRODID:-//Santa Fe Springs Swap Meet - ECPv6.15.20//NONSGML v1.0//EN
CALSCALE:GREGORIAN
METHOD:PUBLISH
X-ORIGINAL-URL:https://sfsswapmeet.com
X-WR-CALDESC:Events for Santa Fe Springs Swap Meet
REFRESH-INTERVAL;VALUE=DURATION:PT1H
X-Robots-Tag:noindex
X-PUBLISHED-TTL:PT1H
BEGIN:VTIMEZONE
TZID:America/Los_Angeles
BEGIN:DAYLIGHT
TZOFFSETFROM:-0800
TZOFFSETTO:-0700
TZNAME:PDT
DTSTART:20230312T100000
END:DAYLIGHT
BEGIN:STANDARD
TZOFFSETFROM:-0700
TZOFFSETTO:-0800
TZNAME:PST
DTSTART:20231105T090000
END:STANDARD
BEGIN:DAYLIGHT
TZOFFSETFROM:-0800
TZOFFSETTO:-0700
TZNAME:PDT
DTSTART:20240310T100000
END:DAYLIGHT
BEGIN:STANDARD
TZOFFSETFROM:-0700
TZOFFSETTO:-0800
TZNAME:PST
DTSTART:20241103T090000
END:STANDARD
BEGIN:DAYLIGHT
TZOFFSETFROM:-0800
TZOFFSETTO:-0700
TZNAME:PDT
DTSTART:20250309T100000
END:DAYLIGHT
BEGIN:STANDARD
TZOFFSETFROM:-0700
TZOFFSETTO:-0800
TZNAME:PST
DTSTART:20251102T090000
END:STANDARD
END:VTIMEZONE
BEGIN:VEVENT
DTSTART;TZID=America/Los_Angeles:20240301T190000
DTEND;TZID=America/Los_Angeles:20240301T230000
DTSTAMP:20260422T084924
CREATED:20231130T195414Z
LAST-MODIFIED:20231130T195414Z
UID:7202-1709319600-1709334000@sfsswapmeet.com
SUMMARY:These Handsome Devils (Tribute to Morrissey and The Smiths)
DESCRIPTION:Set times: 7PM\, 8:30PM and 10PM For more information please visit our Social media @sfsswapmeet or call (562) 921-4359 ext. 114 \n \n 
URL:https://sfsswapmeet.com/event/these-handsome-devils-tribute-to-morrissey-and-the-smiths-3/
CATEGORIES:Friday night
ATTACH;FMTTYPE=image/jpeg:https://sfsswapmeet.com/wp-content/uploads/2023/09/these-handsome-devils.jpg
END:VEVENT
BEGIN:VEVENT
DTSTART;TZID=America/Los_Angeles:20240308T190000
DTEND;TZID=America/Los_Angeles:20240308T230000
DTSTAMP:20260422T084924
CREATED:20231202T031651Z
LAST-MODIFIED:20231202T042321Z
UID:7245-1709924400-1709938800@sfsswapmeet.com
SUMMARY:Corazon De Mana (Tribute to Mana)
DESCRIPTION:Set times: 7PM\, 8:30PM and 10PM For more information please visit our Social media @sfsswapmeet or call (562) 921-4359 ext. 114
URL:https://sfsswapmeet.com/event/corazon-de-mana-tribute-to-mana-6/
CATEGORIES:Friday night
ATTACH;FMTTYPE=image/jpeg:https://sfsswapmeet.com/wp-content/uploads/2023/07/Corazon-de-Mana.jpg
END:VEVENT
BEGIN:VEVENT
DTSTART;TZID=America/Los_Angeles:20240315T190000
DTEND;TZID=America/Los_Angeles:20240315T230000
DTSTAMP:20260422T084924
CREATED:20231130T195531Z
LAST-MODIFIED:20231130T195531Z
UID:7204-1710529200-1710543600@sfsswapmeet.com
SUMMARY:The Outlaw Mariachi
DESCRIPTION:Set times: 7PM\, 8:30PM and 10PM For more information please visit our Social media @sfsswapmeet or call (562) 921-4359 ext. 114
URL:https://sfsswapmeet.com/event/the-outlaw-mariachi-4/
CATEGORIES:Friday night
ATTACH;FMTTYPE=image/jpeg:https://sfsswapmeet.com/wp-content/uploads/2023/11/The-Outlaw-Mariachi.jpg
END:VEVENT
BEGIN:VEVENT
DTSTART;TZID=America/Los_Angeles:20240322T190000
DTEND;TZID=America/Los_Angeles:20240322T230000
DTSTAMP:20260422T084924
CREATED:20231202T031925Z
LAST-MODIFIED:20231202T031925Z
UID:7247-1711134000-1711148400@sfsswapmeet.com
SUMMARY:Red Hot Cholo Peppers (Tribute to Red hot Chili Peppers)
DESCRIPTION:Set times: 7PM\, 8:30PM and 10PM For more information please visit our Social media @sfsswapmeet or call (562) 921-4359 ext. 114
URL:https://sfsswapmeet.com/event/red-hot-cholo-peppers-tribute-to-red-hot-chili-peppers-4/
CATEGORIES:Friday night
ATTACH;FMTTYPE=image/jpeg:https://sfsswapmeet.com/wp-content/uploads/2023/12/red-hot-cholo-peppers-1.jpg
END:VEVENT
BEGIN:VEVENT
DTSTART;TZID=America/Los_Angeles:20240329T190000
DTEND;TZID=America/Los_Angeles:20240329T230000
DTSTAMP:20260422T084924
CREATED:20231202T033038Z
LAST-MODIFIED:20231202T033038Z
UID:7252-1711738800-1711753200@sfsswapmeet.com
SUMMARY:DONT PUSH (Tribute to Sublime)
DESCRIPTION:Set times: 7PM\, 8:30PM and 10PM For more information please visit our Social media @sfsswapmeet or call (562) 921-4359 ext. 114
URL:https://sfsswapmeet.com/event/dont-push-tribute-to-sublime-3/
CATEGORIES:Friday night
ATTACH;FMTTYPE=image/jpeg:https://sfsswapmeet.com/wp-content/uploads/2023/12/Dont-Push.jpg
END:VEVENT
END:VCALENDAR