BEGIN:VCALENDAR
VERSION:2.0
PRODID:-//Santa Fe Springs Swap Meet - ECPv6.15.20//NONSGML v1.0//EN
CALSCALE:GREGORIAN
METHOD:PUBLISH
X-ORIGINAL-URL:https://sfsswapmeet.com
X-WR-CALDESC:Events for Santa Fe Springs Swap Meet
REFRESH-INTERVAL;VALUE=DURATION:PT1H
X-Robots-Tag:noindex
X-PUBLISHED-TTL:PT1H
BEGIN:VTIMEZONE
TZID:America/Los_Angeles
BEGIN:DAYLIGHT
TZOFFSETFROM:-0800
TZOFFSETTO:-0700
TZNAME:PDT
DTSTART:20230312T100000
END:DAYLIGHT
BEGIN:STANDARD
TZOFFSETFROM:-0700
TZOFFSETTO:-0800
TZNAME:PST
DTSTART:20231105T090000
END:STANDARD
BEGIN:DAYLIGHT
TZOFFSETFROM:-0800
TZOFFSETTO:-0700
TZNAME:PDT
DTSTART:20240310T100000
END:DAYLIGHT
BEGIN:STANDARD
TZOFFSETFROM:-0700
TZOFFSETTO:-0800
TZNAME:PST
DTSTART:20241103T090000
END:STANDARD
BEGIN:DAYLIGHT
TZOFFSETFROM:-0800
TZOFFSETTO:-0700
TZNAME:PDT
DTSTART:20250309T100000
END:DAYLIGHT
BEGIN:STANDARD
TZOFFSETFROM:-0700
TZOFFSETTO:-0800
TZNAME:PST
DTSTART:20251102T090000
END:STANDARD
END:VTIMEZONE
BEGIN:VEVENT
DTSTART;TZID=America/Los_Angeles:20240503T190000
DTEND;TZID=America/Los_Angeles:20240503T230000
DTSTAMP:20260422T051254
CREATED:20240221T211058Z
LAST-MODIFIED:20240221T211058Z
UID:7573-1714762800-1714777200@sfsswapmeet.com
SUMMARY:Blank Space (Tribute to Taylor Swift)
DESCRIPTION:
URL:https://sfsswapmeet.com/event/blank-space-tribute-to-taylor-swift/
CATEGORIES:Friday night
ATTACH;FMTTYPE=image/jpeg:https://sfsswapmeet.com/wp-content/uploads/2024/02/BlankSpace-Taylor-Swift-Tribute.jpg
END:VEVENT
BEGIN:VEVENT
DTSTART;TZID=America/Los_Angeles:20240510T190000
DTEND;TZID=America/Los_Angeles:20240510T230000
DTSTAMP:20260422T051254
CREATED:20240401T012102Z
LAST-MODIFIED:20240401T012102Z
UID:7749-1715367600-1715382000@sfsswapmeet.com
SUMMARY:Light Grenade (Incubus Tribute)
DESCRIPTION:Set times: 7:00PM\, 8:30PM and 10PM For more information please visit our Social media @sfsswapmeet or call (562) 921-4359 ext. 114 \n 
URL:https://sfsswapmeet.com/event/light-grenade-incubus-tribute/
CATEGORIES:Friday night
END:VEVENT
BEGIN:VEVENT
DTSTART;TZID=America/Los_Angeles:20240517T190000
DTEND;TZID=America/Los_Angeles:20240517T230000
DTSTAMP:20260422T051254
CREATED:20231130T214933Z
LAST-MODIFIED:20231130T214933Z
UID:7213-1715972400-1715986800@sfsswapmeet.com
SUMMARY:Safety Orange
DESCRIPTION:Set times: 7:00PM\, 8:30PM and 10PM For more information please visit our Social media @sfsswapmeet or call (562) 921-4359 ext. 114
URL:https://sfsswapmeet.com/event/safety-orange-5/
CATEGORIES:Friday night
ATTACH;FMTTYPE=image/jpeg:https://sfsswapmeet.com/wp-content/uploads/2023/02/safety-Orange.jpg
END:VEVENT
BEGIN:VEVENT
DTSTART;TZID=America/Los_Angeles:20240524T190000
DTEND;TZID=America/Los_Angeles:20240524T230000
DTSTAMP:20260422T051254
CREATED:20240318T215119Z
LAST-MODIFIED:20240318T215119Z
UID:7681-1716577200-1716591600@sfsswapmeet.com
SUMMARY:Redneck Rodeo
DESCRIPTION:Set times: 7PM – 11PM For more information please visit our Social media @sfsswapmeet or call (562) 921-4359 ext. 114  
URL:https://sfsswapmeet.com/event/redneck-rodeo-2/
CATEGORIES:Friday night
ATTACH;FMTTYPE=image/jpeg:https://sfsswapmeet.com/wp-content/uploads/2023/02/redneck-rodeo.jpg
END:VEVENT
BEGIN:VEVENT
DTSTART;TZID=America/Los_Angeles:20240531T190000
DTEND;TZID=America/Los_Angeles:20240531T230000
DTSTAMP:20260422T051254
CREATED:20240129T025402Z
LAST-MODIFIED:20240219T010429Z
UID:7500-1717182000-1717196400@sfsswapmeet.com
SUMMARY:Juicebox (Tribute to The Strokes)
DESCRIPTION:Set times: 7PM\, 8:30PM and 10PM For more information please visit our Social media @sfsswapmeet or call (562) 921-4359 ext. 114
URL:https://sfsswapmeet.com/event/juicebox-tribute-to-the-strokes/
CATEGORIES:Friday night
ATTACH;FMTTYPE=image/jpeg:https://sfsswapmeet.com/wp-content/uploads/2023/09/Juice-Box.jpg
END:VEVENT
END:VCALENDAR