BEGIN:VCALENDAR
VERSION:2.0
PRODID:-//Santa Fe Springs Swap Meet - ECPv6.15.20//NONSGML v1.0//EN
CALSCALE:GREGORIAN
METHOD:PUBLISH
X-WR-CALNAME:Santa Fe Springs Swap Meet
X-ORIGINAL-URL:https://sfsswapmeet.com
X-WR-CALDESC:Events for Santa Fe Springs Swap Meet
REFRESH-INTERVAL;VALUE=DURATION:PT1H
X-Robots-Tag:noindex
X-PUBLISHED-TTL:PT1H
BEGIN:VTIMEZONE
TZID:America/Los_Angeles
BEGIN:DAYLIGHT
TZOFFSETFROM:-0800
TZOFFSETTO:-0700
TZNAME:PDT
DTSTART:20230312T100000
END:DAYLIGHT
BEGIN:STANDARD
TZOFFSETFROM:-0700
TZOFFSETTO:-0800
TZNAME:PST
DTSTART:20231105T090000
END:STANDARD
BEGIN:DAYLIGHT
TZOFFSETFROM:-0800
TZOFFSETTO:-0700
TZNAME:PDT
DTSTART:20240310T100000
END:DAYLIGHT
BEGIN:STANDARD
TZOFFSETFROM:-0700
TZOFFSETTO:-0800
TZNAME:PST
DTSTART:20241103T090000
END:STANDARD
BEGIN:DAYLIGHT
TZOFFSETFROM:-0800
TZOFFSETTO:-0700
TZNAME:PDT
DTSTART:20250309T100000
END:DAYLIGHT
BEGIN:STANDARD
TZOFFSETFROM:-0700
TZOFFSETTO:-0800
TZNAME:PST
DTSTART:20251102T090000
END:STANDARD
END:VTIMEZONE
BEGIN:VEVENT
DTSTART;TZID=America/Los_Angeles:20241101T190000
DTEND;TZID=America/Los_Angeles:20241101T230000
DTSTAMP:20260419T201102
CREATED:20241010T211125Z
LAST-MODIFIED:20241010T211125Z
UID:8256-1730487600-1730502000@sfsswapmeet.com
SUMMARY:Manantial de Fuego
DESCRIPTION:Set times: 7:30PM\,  8:30PM and 10PM For more information please visit our Social media @sfsswapmeet or call (562) 921-4359 ext. 114 \n 
URL:https://sfsswapmeet.com/event/manantial-de-fuego/
CATEGORIES:Friday night
END:VEVENT
BEGIN:VEVENT
DTSTART;TZID=America/Los_Angeles:20241108T190000
DTEND;TZID=America/Los_Angeles:20241108T230000
DTSTAMP:20260419T201102
CREATED:20241010T230158Z
LAST-MODIFIED:20241010T230158Z
UID:8279-1731092400-1731106800@sfsswapmeet.com
SUMMARY:Ashes (Rock Cover band)
DESCRIPTION:Set times: 7PM\,  8:30PM and 10PM For more information please visit our Social media @sfsswapmeet or call (562) 921-4359 ext. 114
URL:https://sfsswapmeet.com/event/ashes-rock-cover-band/
CATEGORIES:Friday night
ATTACH;FMTTYPE=image/png:https://sfsswapmeet.com/wp-content/uploads/2023/09/Ashes-1.png
END:VEVENT
BEGIN:VEVENT
DTSTART;TZID=America/Los_Angeles:20241115T190000
DTEND;TZID=America/Los_Angeles:20241115T230000
DTSTAMP:20260419T201102
CREATED:20241010T211710Z
LAST-MODIFIED:20241106T215224Z
UID:8259-1731697200-1731711600@sfsswapmeet.com
SUMMARY:Corazon De Mana (Tribute to Mana)
DESCRIPTION:Set times: 7:30PM\,  8:30PM and 10PM For more information please visit our Social media @sfsswapmeet or call (562) 921-4359 ext. 114 \n \n 
URL:https://sfsswapmeet.com/event/coraon-de-mana-tribute-to-mana/
CATEGORIES:Friday night
ATTACH;FMTTYPE=image/jpeg:https://sfsswapmeet.com/wp-content/uploads/2023/01/Corazon-de-Mana-Copy.jpg
END:VEVENT
BEGIN:VEVENT
DTSTART;TZID=America/Los_Angeles:20241122T183000
DTEND;TZID=America/Los_Angeles:20241122T230000
DTSTAMP:20260419T201102
CREATED:20241010T212534Z
LAST-MODIFIED:20241107T175750Z
UID:8261-1732300200-1732316400@sfsswapmeet.com
SUMMARY:Country night with Redneck Rodeo and Kylie Trout
DESCRIPTION:Set times: 6:30PM to 11PM For more information please visit our Social media @sfsswapmeet or call (562) 921-4359 ext. 114
URL:https://sfsswapmeet.com/event/country-night-with-redneck-rodeo-and-kylie-trout/
CATEGORIES:Friday night
ATTACH;FMTTYPE=image/jpeg:https://sfsswapmeet.com/wp-content/uploads/2024/10/IMG_2814.jpg
END:VEVENT
BEGIN:VEVENT
DTSTART;TZID=America/Los_Angeles:20241129T190000
DTEND;TZID=America/Los_Angeles:20241129T230000
DTSTAMP:20260419T201102
CREATED:20241010T212812Z
LAST-MODIFIED:20241010T212812Z
UID:8265-1732906800-1732921200@sfsswapmeet.com
SUMMARY:Dont Push (Tribute to Sublime)
DESCRIPTION:Set times: 7:30PM\,  8:30PM and 10PM For more information please visit our Social media @sfsswapmeet or call (562) 921-4359 ext. 114
URL:https://sfsswapmeet.com/event/dont-push-tribute-to-sublime-6/
CATEGORIES:Friday night
ATTACH;FMTTYPE=image/jpeg:https://sfsswapmeet.com/wp-content/uploads/2023/05/Dont-Push.jpg
END:VEVENT
END:VCALENDAR