BEGIN:VCALENDAR
VERSION:2.0
PRODID:-//Santa Fe Springs Swap Meet - ECPv6.15.20//NONSGML v1.0//EN
CALSCALE:GREGORIAN
METHOD:PUBLISH
X-WR-CALNAME:Santa Fe Springs Swap Meet
X-ORIGINAL-URL:https://sfsswapmeet.com
X-WR-CALDESC:Events for Santa Fe Springs Swap Meet
REFRESH-INTERVAL;VALUE=DURATION:PT1H
X-Robots-Tag:noindex
X-PUBLISHED-TTL:PT1H
BEGIN:VTIMEZONE
TZID:America/Los_Angeles
BEGIN:DAYLIGHT
TZOFFSETFROM:-0800
TZOFFSETTO:-0700
TZNAME:PDT
DTSTART:20240310T100000
END:DAYLIGHT
BEGIN:STANDARD
TZOFFSETFROM:-0700
TZOFFSETTO:-0800
TZNAME:PST
DTSTART:20241103T090000
END:STANDARD
BEGIN:DAYLIGHT
TZOFFSETFROM:-0800
TZOFFSETTO:-0700
TZNAME:PDT
DTSTART:20250309T100000
END:DAYLIGHT
BEGIN:STANDARD
TZOFFSETFROM:-0700
TZOFFSETTO:-0800
TZNAME:PST
DTSTART:20251102T090000
END:STANDARD
BEGIN:DAYLIGHT
TZOFFSETFROM:-0800
TZOFFSETTO:-0700
TZNAME:PDT
DTSTART:20260308T100000
END:DAYLIGHT
BEGIN:STANDARD
TZOFFSETFROM:-0700
TZOFFSETTO:-0800
TZNAME:PST
DTSTART:20261101T090000
END:STANDARD
END:VTIMEZONE
BEGIN:VEVENT
DTSTART;TZID=America/Los_Angeles:20250404T190000
DTEND;TZID=America/Los_Angeles:20250404T230000
DTSTAMP:20260419T131913
CREATED:20250215T224030Z
LAST-MODIFIED:20250215T224030Z
UID:8639-1743793200-1743807600@sfsswapmeet.com
SUMMARY:Redneck Rodeo
DESCRIPTION:Set times: 7:00PM\, 8:30PM and 10PM For more information please visit our social media @sfsswapmeet or call (562) 921-4359 ext. 114 \n 
URL:https://sfsswapmeet.com/event/redneck-rodeo-3/
CATEGORIES:Friday night
ATTACH;FMTTYPE=image/jpeg:https://sfsswapmeet.com/wp-content/uploads/2025/02/Redneck-rodeo-2.jpg
END:VEVENT
BEGIN:VEVENT
DTSTART;TZID=America/Los_Angeles:20250411T190000
DTEND;TZID=America/Los_Angeles:20250411T230000
DTSTAMP:20260419T131913
CREATED:20250215T224312Z
LAST-MODIFIED:20250215T224801Z
UID:8642-1744398000-1744412400@sfsswapmeet.com
SUMMARY:Nubes (Tributo to Caifanes) and SR80
DESCRIPTION:Set times: 7:00PM SR80 \n8:30PM and 10PM NUBES (tribute to Caifanes) For more information please visit our Social media @sfsswapmeet or call (562) 921-4359 ext. 114 \n 
URL:https://sfsswapmeet.com/event/nubes-tributo-to-caifanes-and-sr80/
CATEGORIES:Friday night
ATTACH;FMTTYPE=image/jpeg:https://sfsswapmeet.com/wp-content/uploads/2023/09/Nubes-Caifanes-Tribute.jpg
END:VEVENT
BEGIN:VEVENT
DTSTART;TZID=America/Los_Angeles:20250418T190000
DTEND;TZID=America/Los_Angeles:20250418T230000
DTSTAMP:20260419T131913
CREATED:20250329T032405Z
LAST-MODIFIED:20250329T032405Z
UID:8794-1745002800-1745017200@sfsswapmeet.com
SUMMARY:Room Service "Tribute to KISS"
DESCRIPTION:Set times: 7:00PM\,  8:30PM and 10PM For more information please visit our Social media @sfsswapmeet or call (562) 921-4359 ext. 114 \n 
URL:https://sfsswapmeet.com/event/room-service-tribute-to-kiss/
CATEGORIES:Friday night
ATTACH;FMTTYPE=image/jpeg:https://sfsswapmeet.com/wp-content/uploads/2025/03/Room-Service-Army-Kiss-Tribute.jpg
END:VEVENT
BEGIN:VEVENT
DTSTART;TZID=America/Los_Angeles:20250425T190000
DTEND;TZID=America/Los_Angeles:20250425T230000
DTSTAMP:20260419T131913
CREATED:20250215T231902Z
LAST-MODIFIED:20250216T230806Z
UID:8644-1745607600-1745622000@sfsswapmeet.com
SUMMARY:Corazon De Mana (Tributo a Mana)
DESCRIPTION:Set times: 7:00PM\,  8:30PM and 10PM For more information please visit our Social media @sfsswapmeet or call (562) 921-4359 ext. 114 \n 
URL:https://sfsswapmeet.com/event/corazon-de-mana-tributo-a-mana/
CATEGORIES:Friday night
END:VEVENT
END:VCALENDAR