BEGIN:VCALENDAR
VERSION:2.0
PRODID:-//Santa Fe Springs Swap Meet - ECPv6.15.20//NONSGML v1.0//EN
CALSCALE:GREGORIAN
METHOD:PUBLISH
X-ORIGINAL-URL:https://sfsswapmeet.com
X-WR-CALDESC:Events for Santa Fe Springs Swap Meet
REFRESH-INTERVAL;VALUE=DURATION:PT1H
X-Robots-Tag:noindex
X-PUBLISHED-TTL:PT1H
BEGIN:VTIMEZONE
TZID:America/Los_Angeles
BEGIN:DAYLIGHT
TZOFFSETFROM:-0800
TZOFFSETTO:-0700
TZNAME:PDT
DTSTART:20240310T100000
END:DAYLIGHT
BEGIN:STANDARD
TZOFFSETFROM:-0700
TZOFFSETTO:-0800
TZNAME:PST
DTSTART:20241103T090000
END:STANDARD
BEGIN:DAYLIGHT
TZOFFSETFROM:-0800
TZOFFSETTO:-0700
TZNAME:PDT
DTSTART:20250309T100000
END:DAYLIGHT
BEGIN:STANDARD
TZOFFSETFROM:-0700
TZOFFSETTO:-0800
TZNAME:PST
DTSTART:20251102T090000
END:STANDARD
BEGIN:DAYLIGHT
TZOFFSETFROM:-0800
TZOFFSETTO:-0700
TZNAME:PDT
DTSTART:20260308T100000
END:DAYLIGHT
BEGIN:STANDARD
TZOFFSETFROM:-0700
TZOFFSETTO:-0800
TZNAME:PST
DTSTART:20261101T090000
END:STANDARD
END:VTIMEZONE
BEGIN:VEVENT
DTSTART;TZID=America/Los_Angeles:20250502T190000
DTEND;TZID=America/Los_Angeles:20250502T230000
DTSTAMP:20260419T115458
CREATED:20250416T155348Z
LAST-MODIFIED:20250416T160135Z
UID:8894-1746212400-1746226800@sfsswapmeet.com
SUMMARY:Melrose Reinas Del Pop
DESCRIPTION:Set times: 7:00PM\, 8:30PM and 10PM For more information please visit our social media @sfsswapmeet or call (562) 921-4359 ext. 114 \n \n  \n 
URL:https://sfsswapmeet.com/event/melrose-reinas-del-pop/
CATEGORIES:Friday night
ATTACH;FMTTYPE=image/png:https://sfsswapmeet.com/wp-content/uploads/2025/04/Melrose-Reinas-Del-Pop-2.png
END:VEVENT
BEGIN:VEVENT
DTSTART;TZID=America/Los_Angeles:20250509T190000
DTEND;TZID=America/Los_Angeles:20250509T230000
DTSTAMP:20260419T115458
CREATED:20250216T213810Z
LAST-MODIFIED:20250216T213810Z
UID:8699-1746817200-1746831600@sfsswapmeet.com
SUMMARY:NEW DOUBT (NO DOUBT TRIBUTE)
DESCRIPTION:Set times: 7:00PM\, 8:30PM and 10PM For more information please visit our social media @sfsswapmeet or call (562) 921-4359 ext. 114
URL:https://sfsswapmeet.com/event/new-doubt-no-doubt-tribute/
CATEGORIES:Friday night
ATTACH;FMTTYPE=image/jpeg:https://sfsswapmeet.com/wp-content/uploads/2025/02/New-Doubt.jpg
END:VEVENT
BEGIN:VEVENT
DTSTART;TZID=America/Los_Angeles:20250516T190000
DTEND;TZID=America/Los_Angeles:20250516T230000
DTSTAMP:20260419T115458
CREATED:20250416T161230Z
LAST-MODIFIED:20250416T161230Z
UID:8904-1747422000-1747436400@sfsswapmeet.com
SUMMARY:Hard Days Night (Tribute to the Beatles)
DESCRIPTION:Set times: 7:00PM\, 8:30PM and 10PM For more information please visit our social media @sfsswapmeet or call (562) 921-4359 ext. 114
URL:https://sfsswapmeet.com/event/hard-days-night-tribute-to-the-beatles-4/
CATEGORIES:Friday night
ATTACH;FMTTYPE=image/jpeg:https://sfsswapmeet.com/wp-content/uploads/2025/04/5-hard-days-night.jpg
END:VEVENT
BEGIN:VEVENT
DTSTART;TZID=America/Los_Angeles:20250523T190000
DTEND;TZID=America/Los_Angeles:20250523T230000
DTSTAMP:20260419T115458
CREATED:20250216T214047Z
LAST-MODIFIED:20250216T214047Z
UID:8704-1748026800-1748041200@sfsswapmeet.com
SUMMARY:90S ROCK
DESCRIPTION:Set times: 7:00PM\, 8:30PM and 10PM For more information please visit our social media @sfsswapmeet or call (562) 921-4359 ext. 114
URL:https://sfsswapmeet.com/event/90s-rock-2/
CATEGORIES:Friday night
ATTACH;FMTTYPE=image/jpeg:https://sfsswapmeet.com/wp-content/uploads/2023/12/90s-Rock-show-Logo.jpg
END:VEVENT
BEGIN:VEVENT
DTSTART;TZID=America/Los_Angeles:20250530T190000
DTEND;TZID=America/Los_Angeles:20250530T230000
DTSTAMP:20260419T115458
CREATED:20250216T214411Z
LAST-MODIFIED:20250216T214411Z
UID:8706-1748631600-1748646000@sfsswapmeet.com
SUMMARY:TRIBUTO A LOS 3 GRANDES (GRAN SILECIO\, CAIFANES Y SODA STEREO)
DESCRIPTION:Set times: 7:00PM\, 8:30PM and 10PM For more information please visit our social media @sfsswapmeet or call (562) 921-4359 ext. 114 \n 
URL:https://sfsswapmeet.com/event/tributo-a-los-3-grandes-gran-silecio-caifanes-y-soda-stereo/
CATEGORIES:Friday night
ATTACH;FMTTYPE=image/jpeg:https://sfsswapmeet.com/wp-content/uploads/2025/02/Poyecty-Cuervo-Homeaje-a-los-3-grandes.jpg
END:VEVENT
END:VCALENDAR