BEGIN:VCALENDAR
VERSION:2.0
PRODID:-//Santa Fe Springs Swap Meet - ECPv6.15.20//NONSGML v1.0//EN
CALSCALE:GREGORIAN
METHOD:PUBLISH
X-WR-CALNAME:Santa Fe Springs Swap Meet
X-ORIGINAL-URL:https://sfsswapmeet.com
X-WR-CALDESC:Events for Santa Fe Springs Swap Meet
REFRESH-INTERVAL;VALUE=DURATION:PT1H
X-Robots-Tag:noindex
X-PUBLISHED-TTL:PT1H
BEGIN:VTIMEZONE
TZID:America/Los_Angeles
BEGIN:DAYLIGHT
TZOFFSETFROM:-0800
TZOFFSETTO:-0700
TZNAME:PDT
DTSTART:20240310T100000
END:DAYLIGHT
BEGIN:STANDARD
TZOFFSETFROM:-0700
TZOFFSETTO:-0800
TZNAME:PST
DTSTART:20241103T090000
END:STANDARD
BEGIN:DAYLIGHT
TZOFFSETFROM:-0800
TZOFFSETTO:-0700
TZNAME:PDT
DTSTART:20250309T100000
END:DAYLIGHT
BEGIN:STANDARD
TZOFFSETFROM:-0700
TZOFFSETTO:-0800
TZNAME:PST
DTSTART:20251102T090000
END:STANDARD
BEGIN:DAYLIGHT
TZOFFSETFROM:-0800
TZOFFSETTO:-0700
TZNAME:PDT
DTSTART:20260308T100000
END:DAYLIGHT
BEGIN:STANDARD
TZOFFSETFROM:-0700
TZOFFSETTO:-0800
TZNAME:PST
DTSTART:20261101T090000
END:STANDARD
END:VTIMEZONE
BEGIN:VEVENT
DTSTART;TZID=America/Los_Angeles:20250711T190000
DTEND;TZID=America/Los_Angeles:20250711T230000
DTSTAMP:20260419T085744
CREATED:20250612T182400Z
LAST-MODIFIED:20250612T182500Z
UID:9165-1752260400-1752274800@sfsswapmeet.com
SUMMARY:Nubes (Tributo a Caifanes) and SR80
DESCRIPTION:Set times: 7:00PM\, 8:30PM and 10PM For more information please visit our social media @sfsswapmeet or call (562) 921-4359 ext. 114 \n 
URL:https://sfsswapmeet.com/event/nubes-tributo-a-caifanes-and-sr80/
CATEGORIES:Friday night
END:VEVENT
BEGIN:VEVENT
DTSTART;TZID=America/Los_Angeles:20250718T190000
DTEND;TZID=America/Los_Angeles:20250718T230000
DTSTAMP:20260419T085744
CREATED:20250604T155950Z
LAST-MODIFIED:20250604T155950Z
UID:9132-1752865200-1752879600@sfsswapmeet.com
SUMMARY:Safety Orange
DESCRIPTION:Set times: 7:00PM\, 8:30PM and 10PM For more information please visit our social media @sfsswapmeet or call (562) 921-4359 ext. 114 \n 
URL:https://sfsswapmeet.com/event/safety-orange-9/
CATEGORIES:Friday night
ATTACH;FMTTYPE=image/jpeg:https://sfsswapmeet.com/wp-content/uploads/2023/02/safety-Orange.jpg
END:VEVENT
BEGIN:VEVENT
DTSTART;TZID=America/Los_Angeles:20250725T190000
DTEND;TZID=America/Los_Angeles:20250725T230000
DTSTAMP:20260419T085744
CREATED:20250612T181854Z
LAST-MODIFIED:20250702T152042Z
UID:9161-1753470000-1753484400@sfsswapmeet.com
SUMMARY:Stereotypos
DESCRIPTION:Set times: 7:00PM\, 8:30PM and 10PM For more information please visit our social media @sfsswapmeet or call (562) 921-4359 ext. 114
URL:https://sfsswapmeet.com/event/marcianos-tributo-a-enanitos-verdes/
CATEGORIES:Friday night
ATTACH;FMTTYPE=image/jpeg:https://sfsswapmeet.com/wp-content/uploads/2024/05/StereoTypo.jpg
END:VEVENT
END:VCALENDAR