BEGIN:VCALENDAR
VERSION:2.0
PRODID:-//Santa Fe Springs Swap Meet - ECPv6.15.20//NONSGML v1.0//EN
CALSCALE:GREGORIAN
METHOD:PUBLISH
X-WR-CALNAME:Santa Fe Springs Swap Meet
X-ORIGINAL-URL:https://sfsswapmeet.com
X-WR-CALDESC:Events for Santa Fe Springs Swap Meet
REFRESH-INTERVAL;VALUE=DURATION:PT1H
X-Robots-Tag:noindex
X-PUBLISHED-TTL:PT1H
BEGIN:VTIMEZONE
TZID:America/Los_Angeles
BEGIN:DAYLIGHT
TZOFFSETFROM:-0800
TZOFFSETTO:-0700
TZNAME:PDT
DTSTART:20220313T100000
END:DAYLIGHT
BEGIN:STANDARD
TZOFFSETFROM:-0700
TZOFFSETTO:-0800
TZNAME:PST
DTSTART:20221106T090000
END:STANDARD
BEGIN:DAYLIGHT
TZOFFSETFROM:-0800
TZOFFSETTO:-0700
TZNAME:PDT
DTSTART:20230312T100000
END:DAYLIGHT
BEGIN:STANDARD
TZOFFSETFROM:-0700
TZOFFSETTO:-0800
TZNAME:PST
DTSTART:20231105T090000
END:STANDARD
BEGIN:DAYLIGHT
TZOFFSETFROM:-0800
TZOFFSETTO:-0700
TZNAME:PDT
DTSTART:20240310T100000
END:DAYLIGHT
BEGIN:STANDARD
TZOFFSETFROM:-0700
TZOFFSETTO:-0800
TZNAME:PST
DTSTART:20241103T090000
END:STANDARD
END:VTIMEZONE
BEGIN:VEVENT
DTSTART;TZID=America/Los_Angeles:20230401T173000
DTEND;TZID=America/Los_Angeles:20230401T230000
DTSTAMP:20260422T222105
CREATED:20230315T015933Z
LAST-MODIFIED:20230315T015933Z
UID:6234-1680370200-1680390000@sfsswapmeet.com
SUMMARY:Cuisillos\, Pequeños Musical y Banda San Miguel
DESCRIPTION:Boletos disponible en taquillas del Swap Meet y Eventbrite.com
URL:https://sfsswapmeet.com/event/cuisillos-pequenos-musical-y-banda-san-miguel/
CATEGORIES:Special Events
END:VEVENT
BEGIN:VEVENT
DTSTART;TZID=America/Los_Angeles:20230422T173000
DTEND;TZID=America/Los_Angeles:20230422T230000
DTSTAMP:20260422T222105
CREATED:20230315T020118Z
LAST-MODIFIED:20230315T020118Z
UID:6237-1682184600-1682204400@sfsswapmeet.com
SUMMARY:Maximo Grado\, Noel Torres y Jesus Ojeda
DESCRIPTION:Boletos dispopnible en taquillas del swap meet y eventbrite.com
URL:https://sfsswapmeet.com/event/maximo-grado-noel-torres-y-jesus-ojeda/
CATEGORIES:Special Events
END:VEVENT
END:VCALENDAR