BEGIN:VCALENDAR
VERSION:2.0
PRODID:-//Santa Fe Springs Swap Meet - ECPv6.15.20//NONSGML v1.0//EN
CALSCALE:GREGORIAN
METHOD:PUBLISH
X-WR-CALNAME:Santa Fe Springs Swap Meet
X-ORIGINAL-URL:https://sfsswapmeet.com
X-WR-CALDESC:Events for Santa Fe Springs Swap Meet
REFRESH-INTERVAL;VALUE=DURATION:PT1H
X-Robots-Tag:noindex
X-PUBLISHED-TTL:PT1H
BEGIN:VTIMEZONE
TZID:America/Los_Angeles
BEGIN:DAYLIGHT
TZOFFSETFROM:-0800
TZOFFSETTO:-0700
TZNAME:PDT
DTSTART:20220313T100000
END:DAYLIGHT
BEGIN:STANDARD
TZOFFSETFROM:-0700
TZOFFSETTO:-0800
TZNAME:PST
DTSTART:20221106T090000
END:STANDARD
BEGIN:DAYLIGHT
TZOFFSETFROM:-0800
TZOFFSETTO:-0700
TZNAME:PDT
DTSTART:20230312T100000
END:DAYLIGHT
BEGIN:STANDARD
TZOFFSETFROM:-0700
TZOFFSETTO:-0800
TZNAME:PST
DTSTART:20231105T090000
END:STANDARD
BEGIN:DAYLIGHT
TZOFFSETFROM:-0800
TZOFFSETTO:-0700
TZNAME:PDT
DTSTART:20240310T100000
END:DAYLIGHT
BEGIN:STANDARD
TZOFFSETFROM:-0700
TZOFFSETTO:-0800
TZNAME:PST
DTSTART:20241103T090000
END:STANDARD
END:VTIMEZONE
BEGIN:VEVENT
DTSTART;TZID=America/Los_Angeles:20230806T080000
DTEND;TZID=America/Los_Angeles:20230806T170000
DTSTAMP:20260422T191541
CREATED:20230708T212300Z
LAST-MODIFIED:20230708T212300Z
UID:6670-1691308800-1691341200@sfsswapmeet.com
SUMMARY:Sangria
DESCRIPTION:Set times:12PM\, 2PM and 4PM For more information please visit our Social media @sfsswapmeet or call (562) 921-4359 ext. 114
URL:https://sfsswapmeet.com/event/sangria-11/
LOCATION:Santa Fe Springs Swap Meet\, 13963 Alondra Blvd‎.\, Santa Fe Springs\, CA\, 90670\, United States
CATEGORIES:Sunday
ATTACH;FMTTYPE=image/jpeg:https://sfsswapmeet.com/wp-content/uploads/2023/07/Sangria-2.jpg
END:VEVENT
BEGIN:VEVENT
DTSTART;TZID=America/Los_Angeles:20230813T120000
DTEND;TZID=America/Los_Angeles:20230813T170000
DTSTAMP:20260422T191541
CREATED:20230708T212808Z
LAST-MODIFIED:20230708T212903Z
UID:6673-1691928000-1691946000@sfsswapmeet.com
SUMMARY:SOTO BAND
DESCRIPTION:Set times: 12PM\, 2PM and 4PM For more information please visit our Social media @sfsswapmeet or call (562) 921-4359 ext. 114 \n 
URL:https://sfsswapmeet.com/event/soto-band/
CATEGORIES:Sunday
ATTACH;FMTTYPE=image/jpeg:https://sfsswapmeet.com/wp-content/uploads/2023/04/Soto.jpg
END:VEVENT
BEGIN:VEVENT
DTSTART;TZID=America/Los_Angeles:20230820T120000
DTEND;TZID=America/Los_Angeles:20230820T170000
DTSTAMP:20260422T191541
CREATED:20230708T213017Z
LAST-MODIFIED:20230708T213017Z
UID:6675-1692532800-1692550800@sfsswapmeet.com
SUMMARY:The Company Band
DESCRIPTION:Set times: 12PM\, 2PM and 4PM For more information please visit our Social media @sfsswapmeet or call (562) 921-4359 ext. 114
URL:https://sfsswapmeet.com/event/the-company-band-4/
LOCATION:Santa Fe Springs Swap Meet\, 13963 Alondra Blvd‎.\, Santa Fe Springs\, CA\, 90670\, United States
CATEGORIES:Sunday
ATTACH;FMTTYPE=image/jpeg:https://sfsswapmeet.com/wp-content/uploads/2023/07/The-Company-BAnd.jpg
END:VEVENT
BEGIN:VEVENT
DTSTART;TZID=America/Los_Angeles:20230827T120000
DTEND;TZID=America/Los_Angeles:20230827T170000
DTSTAMP:20260422T191541
CREATED:20230708T213623Z
LAST-MODIFIED:20230708T214008Z
UID:6678-1693137600-1693155600@sfsswapmeet.com
SUMMARY:Suave
DESCRIPTION:Set times: 12PM\, 2PM and 4PM For more information please visit our Social media @sfsswapmeet or call (562) 921-4359 ext. 114 \n 
URL:https://sfsswapmeet.com/event/suave-13/
CATEGORIES:Sunday
ATTACH;FMTTYPE=image/jpeg:https://sfsswapmeet.com/wp-content/uploads/2023/07/Sauves.jpg
END:VEVENT
END:VCALENDAR