BEGIN:VCALENDAR
VERSION:2.0
PRODID:-//Santa Fe Springs Swap Meet - ECPv6.15.20//NONSGML v1.0//EN
CALSCALE:GREGORIAN
METHOD:PUBLISH
X-WR-CALNAME:Santa Fe Springs Swap Meet
X-ORIGINAL-URL:https://sfsswapmeet.com
X-WR-CALDESC:Events for Santa Fe Springs Swap Meet
REFRESH-INTERVAL;VALUE=DURATION:PT1H
X-Robots-Tag:noindex
X-PUBLISHED-TTL:PT1H
BEGIN:VTIMEZONE
TZID:America/Los_Angeles
BEGIN:DAYLIGHT
TZOFFSETFROM:-0800
TZOFFSETTO:-0700
TZNAME:PDT
DTSTART:20230312T100000
END:DAYLIGHT
BEGIN:STANDARD
TZOFFSETFROM:-0700
TZOFFSETTO:-0800
TZNAME:PST
DTSTART:20231105T090000
END:STANDARD
BEGIN:DAYLIGHT
TZOFFSETFROM:-0800
TZOFFSETTO:-0700
TZNAME:PDT
DTSTART:20240310T100000
END:DAYLIGHT
BEGIN:STANDARD
TZOFFSETFROM:-0700
TZOFFSETTO:-0800
TZNAME:PST
DTSTART:20241103T090000
END:STANDARD
BEGIN:DAYLIGHT
TZOFFSETFROM:-0800
TZOFFSETTO:-0700
TZNAME:PDT
DTSTART:20250309T100000
END:DAYLIGHT
BEGIN:STANDARD
TZOFFSETFROM:-0700
TZOFFSETTO:-0800
TZNAME:PST
DTSTART:20251102T090000
END:STANDARD
END:VTIMEZONE
BEGIN:VEVENT
DTSTART;TZID=America/Los_Angeles:20240407T120000
DTEND;TZID=America/Los_Angeles:20240407T170000
DTSTAMP:20260422T060250
CREATED:20240129T025103Z
LAST-MODIFIED:20240129T025103Z
UID:7496-1712491200-1712509200@sfsswapmeet.com
SUMMARY:Sangria
DESCRIPTION:Set times: 12PM\, 2PM and 4PM For more information please visit our Social media @sfsswapmeet or call (562) 921-4359 ext. 114
URL:https://sfsswapmeet.com/event/sangria-20/
CATEGORIES:Sunday
ATTACH;FMTTYPE=image/jpeg:https://sfsswapmeet.com/wp-content/uploads/2023/09/Sangria-2.jpg
END:VEVENT
BEGIN:VEVENT
DTSTART;TZID=America/Los_Angeles:20240414T120000
DTEND;TZID=America/Los_Angeles:20240414T170000
DTSTAMP:20260422T060250
CREATED:20240129T032132Z
LAST-MODIFIED:20240129T032132Z
UID:7505-1713096000-1713114000@sfsswapmeet.com
SUMMARY:Harbor Groove
DESCRIPTION:Set times: 12PM\, 2PM and 4PM For more information please visit our Social media @sfsswapmeet or call (562) 921-4359 ext. 114 \n \n 
URL:https://sfsswapmeet.com/event/harbor-groove-2/
CATEGORIES:Sunday
ATTACH;FMTTYPE=image/png:https://sfsswapmeet.com/wp-content/uploads/2023/11/Harbor-groove.png
END:VEVENT
BEGIN:VEVENT
DTSTART;TZID=America/Los_Angeles:20240421T120000
DTEND;TZID=America/Los_Angeles:20240421T170000
DTSTAMP:20260422T060250
CREATED:20240221T202509Z
LAST-MODIFIED:20240221T202509Z
UID:7566-1713700800-1713718800@sfsswapmeet.com
SUMMARY:TEASE
DESCRIPTION:Set times: 12PM\, 2PM and 4PM For more information please visit our Social media @sfsswapmeet or call (562) 921-4359 ext. 114
URL:https://sfsswapmeet.com/event/tease-6/
CATEGORIES:Sunday
ATTACH;FMTTYPE=image/jpeg:https://sfsswapmeet.com/wp-content/uploads/2023/09/TEASE-scaled.jpeg
END:VEVENT
BEGIN:VEVENT
DTSTART;TZID=America/Los_Angeles:20240428T120000
DTEND;TZID=America/Los_Angeles:20240428T170000
DTSTAMP:20260422T060250
CREATED:20240129T025149Z
LAST-MODIFIED:20240129T025149Z
UID:7498-1714305600-1714323600@sfsswapmeet.com
SUMMARY:Suave
DESCRIPTION:Set times: 12PM\, 2PM and 4PM For more information please visit our Social media @sfsswapmeet or call (562) 921-4359 ext. 114
URL:https://sfsswapmeet.com/event/suave-21/
CATEGORIES:Sunday
ATTACH;FMTTYPE=image/jpeg:https://sfsswapmeet.com/wp-content/uploads/2023/09/suave.jpg
END:VEVENT
END:VCALENDAR