BEGIN:VCALENDAR
VERSION:2.0
PRODID:-//Santa Fe Springs Swap Meet - ECPv6.15.20//NONSGML v1.0//EN
CALSCALE:GREGORIAN
METHOD:PUBLISH
X-ORIGINAL-URL:https://sfsswapmeet.com
X-WR-CALDESC:Events for Santa Fe Springs Swap Meet
REFRESH-INTERVAL;VALUE=DURATION:PT1H
X-Robots-Tag:noindex
X-PUBLISHED-TTL:PT1H
BEGIN:VTIMEZONE
TZID:America/Los_Angeles
BEGIN:DAYLIGHT
TZOFFSETFROM:-0800
TZOFFSETTO:-0700
TZNAME:PDT
DTSTART:20230312T100000
END:DAYLIGHT
BEGIN:STANDARD
TZOFFSETFROM:-0700
TZOFFSETTO:-0800
TZNAME:PST
DTSTART:20231105T090000
END:STANDARD
BEGIN:DAYLIGHT
TZOFFSETFROM:-0800
TZOFFSETTO:-0700
TZNAME:PDT
DTSTART:20240310T100000
END:DAYLIGHT
BEGIN:STANDARD
TZOFFSETFROM:-0700
TZOFFSETTO:-0800
TZNAME:PST
DTSTART:20241103T090000
END:STANDARD
BEGIN:DAYLIGHT
TZOFFSETFROM:-0800
TZOFFSETTO:-0700
TZNAME:PDT
DTSTART:20250309T100000
END:DAYLIGHT
BEGIN:STANDARD
TZOFFSETFROM:-0700
TZOFFSETTO:-0800
TZNAME:PST
DTSTART:20251102T090000
END:STANDARD
END:VTIMEZONE
BEGIN:VEVENT
DTSTART;TZID=America/Los_Angeles:20240505T110000
DTEND;TZID=America/Los_Angeles:20240505T190000
DTSTAMP:20260422T042951
CREATED:20240426T012423Z
LAST-MODIFIED:20240426T012423Z
UID:7827-1714906800-1714935600@sfsswapmeet.com
SUMMARY:CINCO DE MAYO CELEBRATION
DESCRIPTION:CINCO DE MAYO CELEBATION \nEntrada solo $3.00
URL:https://sfsswapmeet.com/event/cinco-de-mayo-celebration/
CATEGORIES:Sunday
END:VEVENT
BEGIN:VEVENT
DTSTART;TZID=America/Los_Angeles:20240512T120000
DTEND;TZID=America/Los_Angeles:20240512T170000
DTSTAMP:20260422T042951
CREATED:20240318T215932Z
LAST-MODIFIED:20240318T215932Z
UID:7685-1715515200-1715533200@sfsswapmeet.com
SUMMARY:Smooth Touch
DESCRIPTION:
URL:https://sfsswapmeet.com/event/smooth-touch-8/
CATEGORIES:Sunday
END:VEVENT
BEGIN:VEVENT
DTSTART;TZID=America/Los_Angeles:20240526T120000
DTEND;TZID=America/Los_Angeles:20240526T170000
DTSTAMP:20260422T042951
CREATED:20231130T014625Z
LAST-MODIFIED:20231202T045843Z
UID:7158-1716724800-1716742800@sfsswapmeet.com
SUMMARY:Suave
DESCRIPTION:Set times: 12PM\, 2PM and 4PM For more information please visit our Social media @sfsswapmeet or call (562) 921-4359 ext. 114
URL:https://sfsswapmeet.com/event/suave-22/
CATEGORIES:Sunday
ATTACH;FMTTYPE=image/jpeg:https://sfsswapmeet.com/wp-content/uploads/2023/09/suave.jpg
END:VEVENT
END:VCALENDAR