BEGIN:VCALENDAR
VERSION:2.0
PRODID:-//Santa Fe Springs Swap Meet - ECPv6.15.20//NONSGML v1.0//EN
CALSCALE:GREGORIAN
METHOD:PUBLISH
X-WR-CALNAME:Santa Fe Springs Swap Meet
X-ORIGINAL-URL:https://sfsswapmeet.com
X-WR-CALDESC:Events for Santa Fe Springs Swap Meet
REFRESH-INTERVAL;VALUE=DURATION:PT1H
X-Robots-Tag:noindex
X-PUBLISHED-TTL:PT1H
BEGIN:VTIMEZONE
TZID:America/Los_Angeles
BEGIN:DAYLIGHT
TZOFFSETFROM:-0800
TZOFFSETTO:-0700
TZNAME:PDT
DTSTART:20230312T100000
END:DAYLIGHT
BEGIN:STANDARD
TZOFFSETFROM:-0700
TZOFFSETTO:-0800
TZNAME:PST
DTSTART:20231105T090000
END:STANDARD
BEGIN:DAYLIGHT
TZOFFSETFROM:-0800
TZOFFSETTO:-0700
TZNAME:PDT
DTSTART:20240310T100000
END:DAYLIGHT
BEGIN:STANDARD
TZOFFSETFROM:-0700
TZOFFSETTO:-0800
TZNAME:PST
DTSTART:20241103T090000
END:STANDARD
BEGIN:DAYLIGHT
TZOFFSETFROM:-0800
TZOFFSETTO:-0700
TZNAME:PDT
DTSTART:20250309T100000
END:DAYLIGHT
BEGIN:STANDARD
TZOFFSETFROM:-0700
TZOFFSETTO:-0800
TZNAME:PST
DTSTART:20251102T090000
END:STANDARD
END:VTIMEZONE
BEGIN:VEVENT
DTSTART;TZID=America/Los_Angeles:20241103T120000
DTEND;TZID=America/Los_Angeles:20241103T170000
DTSTAMP:20260421T182132
CREATED:20241028T011512Z
LAST-MODIFIED:20241028T011512Z
UID:8347-1730635200-1730653200@sfsswapmeet.com
SUMMARY:Sangria
DESCRIPTION:Set times: 12PM\, 2PM and 4PM For more information please visit our Social media @sfsswapmeet or call (562) 921-4359 ext. 114
URL:https://sfsswapmeet.com/event/sangria-25/
CATEGORIES:Sunday
ATTACH;FMTTYPE=image/jpeg:https://sfsswapmeet.com/wp-content/uploads/2023/07/Sangria-2.jpg
END:VEVENT
BEGIN:VEVENT
DTSTART;TZID=America/Los_Angeles:20241110T120000
DTEND;TZID=America/Los_Angeles:20241110T170000
DTSTAMP:20260421T182132
CREATED:20241013T193712Z
LAST-MODIFIED:20241013T193823Z
UID:8314-1731240000-1731258000@sfsswapmeet.com
SUMMARY:BB Wolf
DESCRIPTION:Time:12:00 pm – 4:30 pm PDT Event Category:SundayFor more information please visit our Social media @sfsswapmeet or call (562) 921-4359 ext. 114
URL:https://sfsswapmeet.com/event/bb-wolf-2/
CATEGORIES:Sunday
ATTACH;FMTTYPE=image/png:https://sfsswapmeet.com/wp-content/uploads/2024/10/BB-Wold-2.png
END:VEVENT
BEGIN:VEVENT
DTSTART;TZID=America/Los_Angeles:20241117T120000
DTEND;TZID=America/Los_Angeles:20241117T170000
DTSTAMP:20260421T182132
CREATED:20241028T011807Z
LAST-MODIFIED:20241028T011807Z
UID:8349-1731844800-1731862800@sfsswapmeet.com
SUMMARY:Banda Imperio
DESCRIPTION:Set times: 12PM\, 2PM and 4PM For more information please visit our Social media @sfsswapmeet or call (562) 921-4359 ext. 114
URL:https://sfsswapmeet.com/event/banda-imperio/
CATEGORIES:Sunday
END:VEVENT
BEGIN:VEVENT
DTSTART;TZID=America/Los_Angeles:20241124T120000
DTEND;TZID=America/Los_Angeles:20241124T170000
DTSTAMP:20260421T182132
CREATED:20231130T015702Z
LAST-MODIFIED:20231202T050018Z
UID:7172-1732449600-1732467600@sfsswapmeet.com
SUMMARY:Suave
DESCRIPTION:Set times: 12PM\, 2PM and 4PM For more information please visit our Social media @sfsswapmeet or call (562) 921-4359 ext. 114
URL:https://sfsswapmeet.com/event/suave-29/
CATEGORIES:Sunday
ATTACH;FMTTYPE=image/jpeg:https://sfsswapmeet.com/wp-content/uploads/2023/09/suave.jpg
END:VEVENT
END:VCALENDAR