BEGIN:VCALENDAR
VERSION:2.0
PRODID:-//Santa Fe Springs Swap Meet - ECPv6.15.20//NONSGML v1.0//EN
CALSCALE:GREGORIAN
METHOD:PUBLISH
X-WR-CALNAME:Santa Fe Springs Swap Meet
X-ORIGINAL-URL:https://sfsswapmeet.com
X-WR-CALDESC:Events for Santa Fe Springs Swap Meet
REFRESH-INTERVAL;VALUE=DURATION:PT1H
X-Robots-Tag:noindex
X-PUBLISHED-TTL:PT1H
BEGIN:VTIMEZONE
TZID:America/Los_Angeles
BEGIN:DAYLIGHT
TZOFFSETFROM:-0800
TZOFFSETTO:-0700
TZNAME:PDT
DTSTART:20240310T100000
END:DAYLIGHT
BEGIN:STANDARD
TZOFFSETFROM:-0700
TZOFFSETTO:-0800
TZNAME:PST
DTSTART:20241103T090000
END:STANDARD
BEGIN:DAYLIGHT
TZOFFSETFROM:-0800
TZOFFSETTO:-0700
TZNAME:PDT
DTSTART:20250309T100000
END:DAYLIGHT
BEGIN:STANDARD
TZOFFSETFROM:-0700
TZOFFSETTO:-0800
TZNAME:PST
DTSTART:20251102T090000
END:STANDARD
BEGIN:DAYLIGHT
TZOFFSETFROM:-0800
TZOFFSETTO:-0700
TZNAME:PDT
DTSTART:20260308T100000
END:DAYLIGHT
BEGIN:STANDARD
TZOFFSETFROM:-0700
TZOFFSETTO:-0800
TZNAME:PST
DTSTART:20261101T090000
END:STANDARD
END:VTIMEZONE
BEGIN:VEVENT
DTSTART;TZID=America/Los_Angeles:20250202T120000
DTEND;TZID=America/Los_Angeles:20250202T170000
DTSTAMP:20260421T134832
CREATED:20250112T234427Z
LAST-MODIFIED:20250112T234427Z
UID:8542-1738497600-1738515600@sfsswapmeet.com
SUMMARY:Sangria
DESCRIPTION:Set times: 12PM\, 2PM and 4PM For more information please visit our Social media @sfsswapmeet or call (562) 921-4359 ext. 114
URL:https://sfsswapmeet.com/event/sangria-27/
CATEGORIES:Sunday
ATTACH;FMTTYPE=image/jpeg:https://sfsswapmeet.com/wp-content/uploads/2025/01/Sangria-2.jpg
END:VEVENT
BEGIN:VEVENT
DTSTART;TZID=America/Los_Angeles:20250209T113000
DTEND;TZID=America/Los_Angeles:20250209T190000
DTSTAMP:20260421T134832
CREATED:20250111T053952Z
LAST-MODIFIED:20250111T053952Z
UID:8512-1739100600-1739127600@sfsswapmeet.com
SUMMARY:Tease @ 11:30AM and Football Watch party @ 3:30PM
DESCRIPTION:TEASE Set times: 11:30am – 3:30pm Followed by football Watch party @ 3:30PM till the game finishes. \n  \nFor more information please visit our Social media @sfsswapmeet or call (562) 921-4359 ext. 114
URL:https://sfsswapmeet.com/event/tease-1130am-and-football-watch-party-330pm/
CATEGORIES:Sunday
END:VEVENT
BEGIN:VEVENT
DTSTART;TZID=America/Los_Angeles:20250216T120000
DTEND;TZID=America/Los_Angeles:20250216T170000
DTSTAMP:20260421T134832
CREATED:20250112T234536Z
LAST-MODIFIED:20250112T234536Z
UID:8544-1739707200-1739725200@sfsswapmeet.com
SUMMARY:Smooth Touch
DESCRIPTION:Set times: 12PM\, 2PM and 4PM For more information please visit our Social media @sfsswapmeet or call (562) 921-4359 ext. 114 \n 
URL:https://sfsswapmeet.com/event/smooth-touch-10/
CATEGORIES:Sunday
ATTACH;FMTTYPE=image/jpeg:https://sfsswapmeet.com/wp-content/uploads/2025/01/SmoothTouch.jpg
END:VEVENT
BEGIN:VEVENT
DTSTART;TZID=America/Los_Angeles:20250223T120000
DTEND;TZID=America/Los_Angeles:20250223T170000
DTSTAMP:20260421T134832
CREATED:20250112T234808Z
LAST-MODIFIED:20250112T234808Z
UID:8546-1740312000-1740330000@sfsswapmeet.com
SUMMARY:Suave
DESCRIPTION:Set times: 12PM\, 2PM and 4PM For more information please visit our Social media @sfsswapmeet or call (562) 921-4359 ext. 114 \n 
URL:https://sfsswapmeet.com/event/suave-30/
CATEGORIES:Sunday
ATTACH;FMTTYPE=image/jpeg:https://sfsswapmeet.com/wp-content/uploads/2025/01/suave.jpg
END:VEVENT
END:VCALENDAR