BEGIN:VCALENDAR
VERSION:2.0
PRODID:-//Santa Fe Springs Swap Meet - ECPv6.15.20//NONSGML v1.0//EN
CALSCALE:GREGORIAN
METHOD:PUBLISH
X-WR-CALNAME:Santa Fe Springs Swap Meet
X-ORIGINAL-URL:https://sfsswapmeet.com
X-WR-CALDESC:Events for Santa Fe Springs Swap Meet
REFRESH-INTERVAL;VALUE=DURATION:PT1H
X-Robots-Tag:noindex
X-PUBLISHED-TTL:PT1H
BEGIN:VTIMEZONE
TZID:America/Los_Angeles
BEGIN:DAYLIGHT
TZOFFSETFROM:-0800
TZOFFSETTO:-0700
TZNAME:PDT
DTSTART:20240310T100000
END:DAYLIGHT
BEGIN:STANDARD
TZOFFSETFROM:-0700
TZOFFSETTO:-0800
TZNAME:PST
DTSTART:20241103T090000
END:STANDARD
BEGIN:DAYLIGHT
TZOFFSETFROM:-0800
TZOFFSETTO:-0700
TZNAME:PDT
DTSTART:20250309T100000
END:DAYLIGHT
BEGIN:STANDARD
TZOFFSETFROM:-0700
TZOFFSETTO:-0800
TZNAME:PST
DTSTART:20251102T090000
END:STANDARD
BEGIN:DAYLIGHT
TZOFFSETFROM:-0800
TZOFFSETTO:-0700
TZNAME:PDT
DTSTART:20260308T100000
END:DAYLIGHT
BEGIN:STANDARD
TZOFFSETFROM:-0700
TZOFFSETTO:-0800
TZNAME:PST
DTSTART:20261101T090000
END:STANDARD
END:VTIMEZONE
BEGIN:VEVENT
DTSTART;TZID=America/Los_Angeles:20250601T120000
DTEND;TZID=America/Los_Angeles:20250601T170000
DTSTAMP:20260421T073505
CREATED:20250525T215623Z
LAST-MODIFIED:20250611T165347Z
UID:9061-1748779200-1748797200@sfsswapmeet.com
SUMMARY:Sangria
DESCRIPTION:Set times: 11:30AM\, 1:30PM and 3:30PM For more information please visit our Social media @sfsswapmeet or call (562) 921-4359 ext. 114
URL:https://sfsswapmeet.com/event/sangria-31/
CATEGORIES:Sunday
ATTACH;FMTTYPE=image/jpeg:https://sfsswapmeet.com/wp-content/uploads/2025/01/Sangria-2.jpg
END:VEVENT
BEGIN:VEVENT
DTSTART;TZID=America/Los_Angeles:20250608T120000
DTEND;TZID=America/Los_Angeles:20250608T170000
DTSTAMP:20260421T073505
CREATED:20250525T215829Z
LAST-MODIFIED:20250611T165421Z
UID:9063-1749384000-1749402000@sfsswapmeet.com
SUMMARY:Tease
DESCRIPTION:Set times: 11:30AM\, 1:30PM and 3:30PM For more information please visit our Social media @sfsswapmeet or call (562) 921-4359 ext. 114
URL:https://sfsswapmeet.com/event/tease-9/
CATEGORIES:Sunday
ATTACH;FMTTYPE=image/jpeg:https://sfsswapmeet.com/wp-content/uploads/2023/02/tease-band.jpg
END:VEVENT
BEGIN:VEVENT
DTSTART;TZID=America/Los_Angeles:20250615T120000
DTEND;TZID=America/Los_Angeles:20250615T170000
DTSTAMP:20260421T073505
CREATED:20250416T221315Z
LAST-MODIFIED:20250416T221315Z
UID:8951-1749988800-1750006800@sfsswapmeet.com
SUMMARY:Smooth Touch
DESCRIPTION:Set times: 12PM\, 2PM and 4PM For more information please visit our Social media @sfsswapmeet or call (562) 921-4359 ext. 114
URL:https://sfsswapmeet.com/event/smooth-touch-11/
CATEGORIES:Sunday
ATTACH;FMTTYPE=image/jpeg:https://sfsswapmeet.com/wp-content/uploads/2025/04/SmoothTouch.jpg
END:VEVENT
BEGIN:VEVENT
DTSTART;TZID=America/Los_Angeles:20250622T120000
DTEND;TZID=America/Los_Angeles:20250622T170000
DTSTAMP:20260421T073505
CREATED:20250525T221002Z
LAST-MODIFIED:20250620T163959Z
UID:9074-1750593600-1750611600@sfsswapmeet.com
SUMMARY:Latin Soul Band
DESCRIPTION:Set times: 12PM\, 2PM and 4PM For more information please visit our Social media @sfsswapmeet or call (562) 921-4359 ext. 114
URL:https://sfsswapmeet.com/event/la-tardeada-dominguera/
CATEGORIES:Sunday
ATTACH;FMTTYPE=image/jpeg:https://sfsswapmeet.com/wp-content/uploads/2025/05/IMG_6524-2.jpg
END:VEVENT
BEGIN:VEVENT
DTSTART;TZID=America/Los_Angeles:20250629T120000
DTEND;TZID=America/Los_Angeles:20250629T170000
DTSTAMP:20260421T073505
CREATED:20250525T221204Z
LAST-MODIFIED:20250611T164918Z
UID:9076-1751198400-1751216400@sfsswapmeet.com
SUMMARY:Suave
DESCRIPTION:Set times: 11:30AM\, 1:30PM and 3:30PM For more information please visit our Social media @sfsswapmeet or call (562) 921-4359 ext. 114
URL:https://sfsswapmeet.com/event/suave-35/
CATEGORIES:Sunday
ATTACH;FMTTYPE=image/jpeg:https://sfsswapmeet.com/wp-content/uploads/2025/01/suave.jpg
END:VEVENT
END:VCALENDAR