BEGIN:VCALENDAR
VERSION:2.0
PRODID:-//Santa Fe Springs Swap Meet - ECPv6.15.20//NONSGML v1.0//EN
CALSCALE:GREGORIAN
METHOD:PUBLISH
X-WR-CALNAME:Santa Fe Springs Swap Meet
X-ORIGINAL-URL:https://sfsswapmeet.com
X-WR-CALDESC:Events for Santa Fe Springs Swap Meet
REFRESH-INTERVAL;VALUE=DURATION:PT1H
X-Robots-Tag:noindex
X-PUBLISHED-TTL:PT1H
BEGIN:VTIMEZONE
TZID:America/Los_Angeles
BEGIN:DAYLIGHT
TZOFFSETFROM:-0800
TZOFFSETTO:-0700
TZNAME:PDT
DTSTART:20220313T100000
END:DAYLIGHT
BEGIN:STANDARD
TZOFFSETFROM:-0700
TZOFFSETTO:-0800
TZNAME:PST
DTSTART:20221106T090000
END:STANDARD
BEGIN:DAYLIGHT
TZOFFSETFROM:-0800
TZOFFSETTO:-0700
TZNAME:PDT
DTSTART:20230312T100000
END:DAYLIGHT
BEGIN:STANDARD
TZOFFSETFROM:-0700
TZOFFSETTO:-0800
TZNAME:PST
DTSTART:20231105T090000
END:STANDARD
BEGIN:DAYLIGHT
TZOFFSETFROM:-0800
TZOFFSETTO:-0700
TZNAME:PDT
DTSTART:20240310T100000
END:DAYLIGHT
BEGIN:STANDARD
TZOFFSETFROM:-0700
TZOFFSETTO:-0800
TZNAME:PST
DTSTART:20241103T090000
END:STANDARD
END:VTIMEZONE
BEGIN:VEVENT
DTSTART;TZID=America/Los_Angeles:20230514T090000
DTEND;TZID=America/Los_Angeles:20230514T120000
DTSTAMP:20260423T020612
CREATED:20230509T221300Z
LAST-MODIFIED:20230509T221901Z
UID:6464-1684054800-1684065600@sfsswapmeet.com
SUMMARY:Celebrando el Dia de Las Madres Con Mariachi
DESCRIPTION:El Kechechente Fernandez con su Mariachi Premier este Domingo 14 de mayo. \nMusica empieza a las 9am. \n  \n\n 
URL:https://sfsswapmeet.com/event/celebrando-el-dia-de-las-madres-con-mariachi/
CATEGORIES:Sunday
END:VEVENT
BEGIN:VEVENT
DTSTART;TZID=America/Los_Angeles:20230514T120000
DTEND;TZID=America/Los_Angeles:20230514T170000
DTSTAMP:20260423T020612
CREATED:20230315T020322Z
LAST-MODIFIED:20230315T020322Z
UID:6240-1684065600-1684083600@sfsswapmeet.com
SUMMARY:LRS
DESCRIPTION:Set times: 12PM\, 2PM & 4PM. For more information please visit our Social media @sfsswapmeet or call (562) 921-4359 ext. 114
URL:https://sfsswapmeet.com/event/lrs/
CATEGORIES:Sunday
ATTACH;FMTTYPE=image/jpeg:https://sfsswapmeet.com/wp-content/uploads/2023/03/LRS-Xposure.jpg
END:VEVENT
END:VCALENDAR